BEGIN:VCALENDAR
VERSION:2.0
PRODID:-//Vision Morton Grove - ECPv6.15.20//NONSGML v1.0//EN
CALSCALE:GREGORIAN
METHOD:PUBLISH
X-ORIGINAL-URL:http://www.visionmortongrove.org
X-WR-CALDESC:Events for Vision Morton Grove
REFRESH-INTERVAL;VALUE=DURATION:PT1H
X-Robots-Tag:noindex
X-PUBLISHED-TTL:PT1H
BEGIN:VTIMEZONE
TZID:America/Chicago
BEGIN:DAYLIGHT
TZOFFSETFROM:-0600
TZOFFSETTO:-0500
TZNAME:CDT
DTSTART:20230312T080000
END:DAYLIGHT
BEGIN:STANDARD
TZOFFSETFROM:-0500
TZOFFSETTO:-0600
TZNAME:CST
DTSTART:20231105T070000
END:STANDARD
BEGIN:DAYLIGHT
TZOFFSETFROM:-0600
TZOFFSETTO:-0500
TZNAME:CDT
DTSTART:20240310T080000
END:DAYLIGHT
BEGIN:STANDARD
TZOFFSETFROM:-0500
TZOFFSETTO:-0600
TZNAME:CST
DTSTART:20241103T070000
END:STANDARD
BEGIN:DAYLIGHT
TZOFFSETFROM:-0600
TZOFFSETTO:-0500
TZNAME:CDT
DTSTART:20250309T080000
END:DAYLIGHT
BEGIN:STANDARD
TZOFFSETFROM:-0500
TZOFFSETTO:-0600
TZNAME:CST
DTSTART:20251102T070000
END:STANDARD
END:VTIMEZONE
BEGIN:VEVENT
DTSTART;TZID=America/Chicago:20240911T190000
DTEND;TZID=America/Chicago:20240911T200000
DTSTAMP:20260421T214417
CREATED:20240820T171033Z
LAST-MODIFIED:20240826T151245Z
UID:1208-1726081200-1726084800@www.visionmortongrove.org
SUMMARY:Project 2025: The Planned Threat to Democracy
DESCRIPTION:Please join us for a presentation by the ACLU – Project 2025: The Planned Threat to Democracy – on Wednesday\, September 11th from 7-8 pm via Zoom. \n\n\n\nProject 2025 is the 900-page MAGA blueprint created by right-wing groups. If Trump and MAGA Republicans win in November\, they are ready to quickly implement the plans.   \n\n\n\nREGISTER HERE NOW \n\n\n\n\n\n\n\nRegister at this link – https://bit.ly/4ctXjz8
URL:http://www.visionmortongrove.org/event/project-2025-the-planned-threat-to-democracy/
CATEGORIES:Group Meetings,Information Sessions
END:VEVENT
END:VCALENDAR